BEGIN:VCALENDAR
VERSION:2.0
PRODID:-//hacksw/handcal//NONSGML v1.0//EN
CALSCALE:GREGORIAN
BEGIN:VEVENT
ORGANIZER;CN=Universal Health Services Inc.:MAILTO:no-reply@mail.gcs-web.com
DTEND:
UID:84919118-1e36-4e77-a51a-db16b8685a5d
DTSTAMP:1619409600
LOCATION:https://edge.media-server.com/mmc/p/okj8xacf
DESCRIPTION:Event Details http://ir.uhsinc.com/index.php/events/event-details/q1-2021-universal-health-services-earnings-conference-call\n\nWebcast: https://edge.media-server.com/mmc/p/okj8xacf
URL;VALUE=URI:https://edge.media-server.com/mmc/p/okj8xacf
SUMMARY:Universal Health Services Inc. - Q1 2021 Universal Health Services Earnings Conference Call
DTSTART:20210427T130000Z
END:VEVENT
END:VCALENDAR